BEGIN:VCALENDAR
PRODID:-//eluceo/ical//2.0/EN
VERSION:2.0
CALSCALE:GREGORIAN
BEGIN:VEVENT
UID:61a4c6d25b81a838e7992b6538a17419
DTSTAMP:20260424T104825Z
SUMMARY:Breast Cancer Fundraiser Cookie Bake
DESCRIPTION:Jewish Federation & Foundation of Rockland County\nCommunity Ca
 lendar\nhttps://jewishrockland.org/calendar/breast-cancer-fundraiser-cooki
 e-bake-1724864594\n\nJoin us to raise awareness and funds for for the Youn
 g Survival Coalition. On site genetic counselor will meet with individuals
  interested in BRCA testing. A talk with Dr. Karsif from Westchester Medic
 al Center and DELISH pink cookies!
DTSTART;TZID=America/New_York:20241027T100000
DTEND;TZID=America/New_York:20241027T120000
END:VEVENT
END:VCALENDAR
