BEGIN:VCALENDAR
PRODID:-//eluceo/ical//2.0/EN
VERSION:2.0
CALSCALE:GREGORIAN
BEGIN:VEVENT
UID:eeee5281c6ae73e74ff15725d93a47f5
DTSTAMP:20260423T072839Z
SUMMARY:"But What IS it?!" RJA Art Workshop for Parents
DESCRIPTION:Jewish Federation & Foundation of Rockland County\nCommunity Ca
 lendar\nhttps://jewishrockland.org/calendar/but-what-is-it-rja-art-worksho
 p-for-parents\n\nArt Workshop for Parents
DTSTART;TZID=America/New_York:20140403T190000
DTEND;TZID=America/New_York:20140403T210000
END:VEVENT
END:VCALENDAR
