BEGIN:VCALENDAR
PRODID:-//eluceo/ical//2.0/EN
VERSION:2.0
CALSCALE:GREGORIAN
BEGIN:VEVENT
UID:06e07a6b84dedb59d2df62d0c1b03bec
DTSTAMP:20260422T033557Z
SUMMARY:Cafe Europa
DESCRIPTION:Jewish Federation & Foundation of Rockland County\nCommunity Ca
 lendar\nhttps://jewishrockland.org/calendar/cafe-europa-1482416658-216914\
 n\nCafe Europa is a place for Holocaust survivors to gather\, share storie
 s\, socialize\, and meet other survivors. Call the Holocaust Museum for th
 is month's location: 845-574-4099
DTSTART;TZID=America/New_York:20170420T110000
DTEND;TZID=America/New_York:20170420T130000
END:VEVENT
END:VCALENDAR
