BEGIN:VCALENDAR
PRODID:-//eluceo/ical//2.0/EN
VERSION:2.0
CALSCALE:GREGORIAN
BEGIN:VEVENT
UID:44170e78422b0a34d03f0a74272cd6f2
DTSTAMP:20260423T113900Z
SUMMARY:Cafe Europa
DESCRIPTION:Jewish Federation & Foundation of Rockland County\nCommunity Ca
 lendar\nhttps://jewishrockland.org/calendar/cafe-europa-jan-216911\n\nCafe
  Europa is a place for Holocaust survivors to gather\, share stories\, soc
 ialize\, and meet other survivors. Call the Holocaust Museum for this mont
 h's location: 845-574-4099
DTSTART;TZID=America/New_York:20170119T110000
DTEND;TZID=America/New_York:20170119T130000
END:VEVENT
END:VCALENDAR
