BEGIN:VCALENDAR
PRODID:-//eluceo/ical//2.0/EN
VERSION:2.0
CALSCALE:GREGORIAN
BEGIN:VEVENT
UID:72ec29d06a13b26d5449687c9e7fa0e2
DTSTAMP:20260423T023606Z
SUMMARY:Cafe Europa
DESCRIPTION:Jewish Federation & Foundation of Rockland County\nCommunity Ca
 lendar\nhttps://jewishrockland.org/calendar/cafe-europa-mar-216913\n\nCafe
  Europa is a place for Holocaust survivors to gather\, share stories\, soc
 ialize\, and meet other survivors. Call the Holocaust Museum for this mont
 h's location: 845-574-4099.
DTSTART;TZID=America/New_York:20170316T110000
DTEND;TZID=America/New_York:20170316T130000
END:VEVENT
END:VCALENDAR
