BEGIN:VCALENDAR
PRODID:-//eluceo/ical//2.0/EN
VERSION:2.0
CALSCALE:GREGORIAN
BEGIN:VEVENT
UID:8e4803d6621e4ac7344efaa4539a7f4a
DTSTAMP:20260421T074513Z
SUMMARY:Federation Campaign Kickoff event
DESCRIPTION:Jewish Federation & Foundation of Rockland County\nCommunity Ca
 lendar\nhttps://jewishrockland.org/calendar/campaign-kickoff-event-1752242
 150\n\nSave the date
DTSTART;TZID=America/New_York:20250907T190000
DTEND;TZID=America/New_York:20250907T210000
END:VEVENT
END:VCALENDAR
