BEGIN:VCALENDAR
PRODID:-//eluceo/ical//2.0/EN
VERSION:2.0
CALSCALE:GREGORIAN
BEGIN:VEVENT
UID:b2856de70a1dfc4e575792dde6329f44
DTSTAMP:20260420T184314Z
SUMMARY:Canning 101
DESCRIPTION:Jewish Federation & Foundation of Rockland County\nCommunity Ca
 lendar\nhttps://jewishrockland.org/calendar/canning-101\n\nCanning 101
DTSTART;TZID=America/New_York:20130707T140000
DTEND;TZID=America/New_York:20130707T143000
END:VEVENT
END:VCALENDAR
