BEGIN:VCALENDAR
PRODID:-//eluceo/ical//2.0/EN
VERSION:2.0
CALSCALE:GREGORIAN
BEGIN:VEVENT
UID:827d58fc26143462d62418338f205c6c
DTSTAMP:20260425T190250Z
SUMMARY:CARS4FRIENDS
DESCRIPTION:Jewish Federation & Foundation of Rockland County\nCommunity Ca
 lendar\nhttps://jewishrockland.org/calendar/cars4friends-1683827425\n\nFri
 endship Circle invites your family to cars4friends\, an afternoon of fun f
 eaturing a car show\, horse and buggy rides\, clowns and concessions!
DTSTART;TZID=America/New_York:20230521T130000
DTEND;TZID=America/New_York:20230521T150000
END:VEVENT
END:VCALENDAR
