BEGIN:VCALENDAR
PRODID:-//eluceo/ical//2.0/EN
VERSION:2.0
CALSCALE:GREGORIAN
BEGIN:VEVENT
UID:96d5a9f91b936ebb958f9b4a05f92b6c
DTSTAMP:20260419T155432Z
SUMMARY:Cartoonists Against the Holocaust
DESCRIPTION:Jewish Federation & Foundation of Rockland County\nCommunity Ca
 lendar\nhttps://jewishrockland.org/calendar/cartoonists-against-the-holoca
 ust-62373\n\nExhibit: Cartoonists Against the Holocaust: Art in the Servic
 e of Humanity\n\nMay 15-30\, 2014\n\nTechnology Center Rotunda\, RCC\n\nA 
 22-panel exhibit featuring rare political cartoons from American newspaper
 s in the 1930s and 1940s about the plight of Jews under Hitler.\n\nExhibit
  made possible through the generosity of the Holocaust & Human Rights Educ
 ation Center.
DTSTART;TZID=America/New_York:20140515T090000
DTEND;TZID=America/New_York:20140515T170000
END:VEVENT
END:VCALENDAR
