BEGIN:VCALENDAR
PRODID:-//eluceo/ical//2.0/EN
VERSION:2.0
CALSCALE:GREGORIAN
BEGIN:VEVENT
UID:af060d29679e7930d355a0a060c5c413
DTSTAMP:20260422T235805Z
SUMMARY:Catch a Rising Star Comedy Show starring Stewie Stone and RC Smith
DESCRIPTION:Jewish Federation & Foundation of Rockland County\nCommunity Ca
 lendar\nhttps://jewishrockland.org/calendar/catch-a-rising-star-comedy-sho
 w-starring-stewie-stone-and-rc-smith-\n\nCatch a Rising Star Presents\nA C
 omedy Show starring Stewie Stone\nOpening Act RC Smith\nSaturday November 
 12\, 2016\nCongregation Shaarey Israel\n18 Montebello Rd.\nMontebello N.Y 
 10901\n845-369-0300\nCocktail reception 6:30 pm start -$54 includes ticket
 s to the comedy show\nComedy show only 7:30pm start- $36\nwww.catcharising
 star.com\n\n \n\nCatch a Rising Star Presents\nA Comedy Show starring Ste
 wie Stone\nOpening Act RC Smith\nSaturday November 12\, 2016\nCongregation
  Shaarey Israel\n18 Mo...
DTSTART;TZID=America/New_York:20161112T183000
DTEND;TZID=America/New_York:20161112T220000
END:VEVENT
END:VCALENDAR
