BEGIN:VCALENDAR
PRODID:-//eluceo/ical//2.0/EN
VERSION:2.0
CALSCALE:GREGORIAN
BEGIN:VEVENT
UID:77afa6e082e98ffc14bfb7cf511de141
DTSTAMP:20260424T104725Z
SUMMARY:Catch A Rising Star with Bobby Collins
DESCRIPTION:Jewish Federation & Foundation of Rockland County\nCommunity Ca
 lendar\nhttps://jewishrockland.org/calendar/catch-a-rising-star-with-bobby
 -collins-1449679088\n\nCatch a Rising Star with Bobby Collins!\n\nEnjoy a 
 night of comedy with Jewish legend Bobby Collins at Congregation Shaarey I
 sarel.
DTSTART;TZID=America/New_York:20160319T190000
DTEND;TZID=America/New_York:20160319T220000
END:VEVENT
END:VCALENDAR
