BEGIN:VCALENDAR
PRODID:-//eluceo/ical//2.0/EN
VERSION:2.0
CALSCALE:GREGORIAN
BEGIN:VEVENT
UID:6a16a51ba14021c85d98893be27a23f0
DTSTAMP:20260422T021100Z
SUMMARY:Celebrate Hanukkah With Beth Am Temple At Group Menorah Lighting
DESCRIPTION:Jewish Federation & Foundation of Rockland County\nCommunity Ca
 lendar\nhttps://jewishrockland.org/calendar/celebrate-hanukkah-with-beth-a
 m-temple-at-group-menorah-lighting-1765293375\n\nBeth Am Temple holds its 
 annual Menorah Lighting Service on Friday\, December 19 at 7 pm.  Attendee
 s are invited to  bring their own menorah and candles to light.
DTSTART;TZID=America/New_York:20251219T190000
DTEND;TZID=America/New_York:20251219T203000
END:VEVENT
END:VCALENDAR
