BEGIN:VCALENDAR
PRODID:-//eluceo/ical//2.0/EN
VERSION:2.0
CALSCALE:GREGORIAN
BEGIN:VEVENT
UID:dbed618294d8f7c6579a0aa6b9385f5b
DTSTAMP:20260420T205237Z
SUMMARY:Celebrate New Year's Eve at an informal gathering at Nanuet Hebrew 
 Center!
DESCRIPTION:Jewish Federation & Foundation of Rockland County\nCommunity Ca
 lendar\nhttps://jewishrockland.org/calendar/celebrate-new-years-eve-at-an-
 informal-gathering-at-nanuet-hebrew-center-55998\n\nCelebrate New Year's E
 ve at NHC!
DTSTART;TZID=America/New_York:20131231T193000
DTEND;TZID=America/New_York:20140101T003000
END:VEVENT
END:VCALENDAR
