BEGIN:VCALENDAR
PRODID:-//eluceo/ical//2.0/EN
VERSION:2.0
CALSCALE:GREGORIAN
BEGIN:VEVENT
UID:859ac5a918c197c9ccecfd266940cecd
DTSTAMP:20260422T164929Z
SUMMARY:Celebrate Simchat Torah and Shabbat at Temple Beth Sholom
DESCRIPTION:Jewish Federation & Foundation of Rockland County\nCommunity Ca
 lendar\nhttps://jewishrockland.org/calendar/celebrate-simchat-torah-and-sh
 abbat-at-temple-beth-sholom-2017\n\nAll are welcome to a very special Shab
 bat service where we will include a very festive\, musical celebration of 
 Simchat Torah. Experience our inspiring\, interactive\, joyous musical ser
 vice. Be a part of a congregation literally wrapped in Torah.
DTSTART;TZID=America/New_York:20171013T183000
DTEND;TZID=America/New_York:20171013T200000
END:VEVENT
END:VCALENDAR
