BEGIN:VCALENDAR
PRODID:-//eluceo/ical//2.0/EN
VERSION:2.0
CALSCALE:GREGORIAN
BEGIN:VEVENT
UID:300270b0a1992648034a0224450d9c43
DTSTAMP:20260419T140637Z
SUMMARY:Celebrate Simchat Torah at Temple Beth Sholom!
DESCRIPTION:Jewish Federation & Foundation of Rockland County\nCommunity Ca
 lendar\nhttps://jewishrockland.org/calendar/celebrate-simchat-torah-at-tem
 ple-beth-sholom-2016\n\nCelebrate Simchat Torah at Temple Beth Sholom with
  our joyous late afternoon service. All are welcome.
DTSTART;TZID=America/New_York:20161023T170000
DTEND;TZID=America/New_York:20161023T183000
END:VEVENT
END:VCALENDAR
