BEGIN:VCALENDAR
PRODID:-//eluceo/ical//2.0/EN
VERSION:2.0
CALSCALE:GREGORIAN
BEGIN:VEVENT
UID:02676fcf829b21f9d41e8aabf9b75699
DTSTAMP:20260425T013616Z
SUMMARY:Celebrate Sukkot At Beth Am Temple
DESCRIPTION:Jewish Federation & Foundation of Rockland County\nCommunity Ca
 lendar\nhttps://jewishrockland.org/calendar/celebrate-sukkot-at-beth-am-te
 mple-1758228274\n\nBeth Am Temple is celebrating Sukkot with an October 6t
 h service featuring a Master Naturalist who will explain the role of falle
 n leaves in sustaining plant and animal life. A kiddush will follow in the
  sukkah.
DTSTART;TZID=America/New_York:20251006T190000
DTEND;TZID=America/New_York:20251006T200000
END:VEVENT
END:VCALENDAR
