BEGIN:VCALENDAR
PRODID:-//eluceo/ical//2.0/EN
VERSION:2.0
CALSCALE:GREGORIAN
BEGIN:VEVENT
UID:c5e9110a725b4b160d7eee4dbb9aed89
DTSTAMP:20260421T202258Z
SUMMARY:Celebrate Sukkot at Temple Beth Sholom
DESCRIPTION:Jewish Federation & Foundation of Rockland County\nCommunity Ca
 lendar\nhttps://jewishrockland.org/calendar/celebrate-sukkot-at-temple-bet
 h-sholom-2016\n\nCelebrate Sukkot at Temple Beth Sholom with a noon outdoo
 r service. Bring your family and friends. Shake the lulav with us!
DTSTART;TZID=America/New_York:20161016T120000
DTEND;TZID=America/New_York:20161016T130000
END:VEVENT
END:VCALENDAR
