BEGIN:VCALENDAR
PRODID:-//eluceo/ical//2.0/EN
VERSION:2.0
CALSCALE:GREGORIAN
BEGIN:VEVENT
UID:fbb02039ef36901ba325c15d4d4acf38
DTSTAMP:20260419T210528Z
SUMMARY:Celebrate the Jewish Woman
DESCRIPTION:Jewish Federation & Foundation of Rockland County\nCommunity Ca
 lendar\nhttps://jewishrockland.org/calendar/celebrate-the-jewish-woman\n\n
 Celebrate the Jewish Woman
DTSTART;TZID=America/New_York:20130611T190000
DTEND;TZID=America/New_York:20130611T213000
END:VEVENT
END:VCALENDAR
