BEGIN:VCALENDAR
PRODID:-//eluceo/ical//2.0/EN
VERSION:2.0
CALSCALE:GREGORIAN
BEGIN:VEVENT
UID:413e84cbc8c6ffc41530d51e80037a44
DTSTAMP:20260424T111044Z
SUMMARY:Challah & Dip Cook Off!
DESCRIPTION:Jewish Federation & Foundation of Rockland County\nCommunity Ca
 lendar\nhttps://jewishrockland.org/calendar/challah--dip-cook-off-2018\n\n
 In the Jewish version of Cupcake Wars\, contestants vie for the title of C
 hallah & Dip Maven\, with local celebrity judges casting their votes. Tast
 ings for all of challah and a variety of creative dips.
DTSTART;TZID=America/New_York:20180308T123000
DTEND;TZID=America/New_York:20180308T133000
END:VEVENT
END:VCALENDAR
