BEGIN:VCALENDAR
PRODID:-//eluceo/ical//2.0/EN
VERSION:2.0
CALSCALE:GREGORIAN
BEGIN:VEVENT
UID:835e4b3e75f2cf6483e4a94cf82b7905
DTSTAMP:20260422T013513Z
SUMMARY:Challah Baking Class at CSI
DESCRIPTION:Jewish Federation & Foundation of Rockland County\nCommunity Ca
 lendar\nhttps://jewishrockland.org/calendar/challah-baking-class-at-csi\n\
 nJoin CSI to learn how to bake challah. In addition Rabbi Russo will teach
  about challah\, tithing\, and brachot\, All ages are welcome!! FREE\nCong
 regation Sons of Israel\, 300 N. Broadway\, Upper Nyack\, NY 10960. For mo
 re information contact us at 845-358-3767 or csioffice@optonline.net
DTSTART;TZID=America/New_York:20140829T130000
DTEND;TZID=America/New_York:20140829T143000
END:VEVENT
END:VCALENDAR
