BEGIN:VCALENDAR
PRODID:-//eluceo/ical//2.0/EN
VERSION:2.0
CALSCALE:GREGORIAN
BEGIN:VEVENT
UID:5ef23c8276c9eb5254ae38fd7f32d8b7
DTSTAMP:20260422T035025Z
SUMMARY:Chanukah Beatles Shabbat- Temple Beth Sholom
DESCRIPTION:Jewish Federation & Foundation of Rockland County\nCommunity Ca
 lendar\nhttps://jewishrockland.org/calendar/chanukah-beatles-shabbat--temp
 le-beth-sholom-1733772668\n\nCelebrate the music of the Beatles with this 
 special Chanukah Shabbat
DTSTART;TZID=America/New_York:20241227T193000
DTEND;TZID=America/New_York:20241227T210000
END:VEVENT
END:VCALENDAR
