BEGIN:VCALENDAR
PRODID:-//eluceo/ical//2.0/EN
VERSION:2.0
CALSCALE:GREGORIAN
BEGIN:VEVENT
UID:194d6fb37d131146ddc2b1d15bafed30
DTSTAMP:20260425T184145Z
SUMMARY:Chanukah Shabbat at Temple Beth Sholom
DESCRIPTION:Jewish Federation & Foundation of Rockland County\nCommunity Ca
 lendar\nhttps://jewishrockland.org/calendar/chanukah-shabbat-at-temple-bet
 h-sholom-2017\n\nCelebrate Shabbat and Chanukah at Temple Beth Sholom. Bri
 ng your menorah (hannukiah) \, candles\, and matches and help fill the San
 ctuary with light. All are welcome to experience our inspiring\, interacti
 ve\, joyous musical service. Oneg Shabbat to follow.
DTSTART;TZID=America/New_York:20171215T183000
DTEND;TZID=America/New_York:20171215T200000
END:VEVENT
END:VCALENDAR
