BEGIN:VCALENDAR
PRODID:-//eluceo/ical//2.0/EN
VERSION:2.0
CALSCALE:GREGORIAN
BEGIN:VEVENT
UID:b17fb21b6d4f0576f3736eb972eb6733
DTSTAMP:20260420T230420Z
SUMMARY:Chanukah Storytime with Rabbi Abraham
DESCRIPTION:Jewish Federation & Foundation of Rockland County\nCommunity Ca
 lendar\nhttps://jewishrockland.org/calendar/chanukah-storytime-with-rabbi-
 abraham-7512\n\nChanukah Storytime with Rabbi Abraham
DTSTART;TZID=America/New_York:20131121T160000
DTEND;TZID=America/New_York:20131121T170000
END:VEVENT
END:VCALENDAR
