BEGIN:VCALENDAR
PRODID:-//eluceo/ical//2.0/EN
VERSION:2.0
CALSCALE:GREGORIAN
BEGIN:VEVENT
UID:19831a4affe3459dd7f1ac6091c19e3e
DTSTAMP:20260423T193251Z
SUMMARY:Chanukah Unity Concert Featuring 8th Day Band
DESCRIPTION:Jewish Federation & Foundation of Rockland County\nCommunity Ca
 lendar\nhttps://jewishrockland.org/calendar/chanukah-unity-concert-featuri
 ng-8th-day-band-1576246745\n\n8th Day\, one of the most popular acts in Je
 wish music\, will perform.
DTSTART;TZID=America/New_York:20191230T190000
DTEND;TZID=America/New_York:20191230T213000
END:VEVENT
END:VCALENDAR
