BEGIN:VCALENDAR
PRODID:-//eluceo/ical//2.0/EN
VERSION:2.0
CALSCALE:GREGORIAN
BEGIN:VEVENT
UID:022bb285fe5265a8c57196cf3bc75624
DTSTAMP:20260424T130900Z
SUMMARY:Chanukah Unity Concert: Gad Elbaz
DESCRIPTION:Jewish Federation & Foundation of Rockland County\nCommunity Ca
 lendar\nhttps://jewishrockland.org/calendar/chanukah-unity-concert-gad-elb
 az-2017\n\nGad Elbaz in Concert at Rockland Community College
DTSTART;TZID=America/New_York:20171218T000000
DTEND;TZID=America/New_York:20171218T235959
END:VEVENT
END:VCALENDAR
