BEGIN:VCALENDAR
PRODID:-//eluceo/ical//2.0/EN
VERSION:2.0
CALSCALE:GREGORIAN
BEGIN:VEVENT
UID:257c4cd0774708e51e26d241de7879e5
DTSTAMP:20260419T170455Z
SUMMARY:Chazen Jazz Concert
DESCRIPTION:Jewish Federation & Foundation of Rockland County\nCommunity Ca
 lendar\nhttps://jewishrockland.org/calendar/chazen-jazz-concert\n\nPlease 
 check jccrockland.org for updates
DTSTART;TZID=America/New_York:20151011T193000
DTEND;TZID=America/New_York:20151011T230000
END:VEVENT
END:VCALENDAR
