BEGIN:VCALENDAR
PRODID:-//eluceo/ical//2.0/EN
VERSION:2.0
CALSCALE:GREGORIAN
BEGIN:VEVENT
UID:d7dcc275c137a6b899553506ee5c09a9
DTSTAMP:20260420T162750Z
SUMMARY:Chocolate Seder
DESCRIPTION:Jewish Federation & Foundation of Rockland County\nCommunity Ca
 lendar\nhttps://jewishrockland.org/calendar/chocolate-seder-1712163123\n\n
 Join us for a kosher for Passover chocolate seder! Kid friendly\, parent a
 nd grandparent approved! Sing\, dance and explore the parts of the seder a
 nd don't forget your sweet tooth!
DTSTART;TZID=America/New_York:20240424T110000
DTEND;TZID=America/New_York:20240424T120000
END:VEVENT
END:VCALENDAR
