BEGIN:VCALENDAR
PRODID:-//eluceo/ical//2.0/EN
VERSION:2.0
CALSCALE:GREGORIAN
BEGIN:VEVENT
UID:d1f5c80e8332ef8d027a5383dda56a7d
DTSTAMP:20260425T023716Z
SUMMARY:Comedy Night at Beth Am Temple
DESCRIPTION:Jewish Federation & Foundation of Rockland County\nCommunity Ca
 lendar\nhttps://jewishrockland.org/calendar/comedy-night-at-beth-am-temple
 -9102016\n\nBeth Am Temple presents a wonderful night of comedy starring J
 onny Lampert\, The Stone Brothers and our own Ben Pernick. $25 per person 
 includes great comedy\, one beverage and dessert. Tickets available by cal
 ling the Temple office (845) 735-5858 x 101 or email office@bethamtemple.o
 rg Beth Am Temple is located at 60 East Madison Avenue in Pearl River.
DTSTART;TZID=America/New_York:20160910T200000
DTEND;TZID=America/New_York:20160910T220000
END:VEVENT
END:VCALENDAR
