BEGIN:VCALENDAR
PRODID:-//eluceo/ical//2.0/EN
VERSION:2.0
CALSCALE:GREGORIAN
BEGIN:VEVENT
UID:5cc2294c4608e05513345a868bcb9b10
DTSTAMP:20260419T232310Z
SUMMARY:Comedy Night at RTR
DESCRIPTION:Jewish Federation & Foundation of Rockland County\nCommunity Ca
 lendar\nhttps://jewishrockland.org/calendar/comedy-night-at-rtr-4-21\n\nIt
 's Comedy Night at RTR! Our Men's Club invites you to get your laugh on wi
 th Host\, Les Degen\; Feature Act\, Sheba Mason (daughter of Jackie Mason)
 \; and Headliner\, Joe Starr (from Kevin Can Wait). $25 per person. Please
  make checks payable to RTR Men's Club. It's BYOB (dairy event) and there'
 s even babysitting available - just let us know! We'll see you there.
DTSTART;TZID=America/New_York:20180421T193000
DTEND;TZID=America/New_York:20180421T220000
END:VEVENT
END:VCALENDAR
