BEGIN:VCALENDAR
PRODID:-//eluceo/ical//2.0/EN
VERSION:2.0
CALSCALE:GREGORIAN
BEGIN:VEVENT
UID:42976c785c7fdfda152cc281d7609a93
DTSTAMP:20260424T230705Z
SUMMARY:Community Briefing by AIPAC
DESCRIPTION:Jewish Federation & Foundation of Rockland County\nCommunity Ca
 lendar\nhttps://jewishrockland.org/calendar/community-briefing-by-aipac\n\
 nCommunity Briefing by AIPAC
DTSTART;TZID=America/New_York:20190206T190000
DTEND;TZID=America/New_York:20190206T210000
END:VEVENT
END:VCALENDAR
