BEGIN:VCALENDAR
PRODID:-//eluceo/ical//2.0/EN
VERSION:2.0
CALSCALE:GREGORIAN
BEGIN:VEVENT
UID:6b012581c830637986c3958911e7aecd
DTSTAMP:20260421T163238Z
SUMMARY:Community Chanukah Concert with Sam Glaser
DESCRIPTION:Jewish Federation & Foundation of Rockland County\nCommunity Ca
 lendar\nhttps://jewishrockland.org/calendar/community-chanukah-concert-wit
 h-sam-glaser\n\nSam Glaser Chanukah Concert
DTSTART;TZID=America/New_York:20131124T160000
DTEND;TZID=America/New_York:20131124T170000
END:VEVENT
END:VCALENDAR
