BEGIN:VCALENDAR
PRODID:-//eluceo/ical//2.0/EN
VERSION:2.0
CALSCALE:GREGORIAN
BEGIN:VEVENT
UID:486791b3380d261b2545fe205e81bfb7
DTSTAMP:20260424T100118Z
SUMMARY:Community Dinner at NCJC
DESCRIPTION:Jewish Federation & Foundation of Rockland County\nCommunity Ca
 lendar\nhttps://jewishrockland.org/calendar/community-dinner-at-ncjc-17629
 67968\n\nJoin us for services and dinner!
DTSTART;TZID=America/New_York:20251205T180000
DTEND;TZID=America/New_York:20251205T200000
END:VEVENT
END:VCALENDAR
