BEGIN:VCALENDAR
PRODID:-//eluceo/ical//2.0/EN
VERSION:2.0
CALSCALE:GREGORIAN
BEGIN:VEVENT
UID:b7efe5b3c1d53c65b607467922acb341
DTSTAMP:20260424T204048Z
SUMMARY:Community Dinner at New City Jewish Center
DESCRIPTION:Jewish Federation & Foundation of Rockland County\nCommunity Ca
 lendar\nhttps://jewishrockland.org/calendar/community-dinner-at-new-city-j
 ewish-center-1703866426\n\nJoin us for Kabbalat Shabbat and dinner at New 
 City Jewish Center
DTSTART;TZID=America/New_York:20240112T183000
DTEND;TZID=America/New_York:20240112T200000
END:VEVENT
END:VCALENDAR
