BEGIN:VCALENDAR
PRODID:-//eluceo/ical//2.0/EN
VERSION:2.0
CALSCALE:GREGORIAN
BEGIN:VEVENT
UID:29ffc4955c3abd0ed819ead0fb031ade
DTSTAMP:20260424T135214Z
SUMMARY:Community Night of Music\, Dancing and Unity in the NHC Sukkah
DESCRIPTION:Jewish Federation & Foundation of Rockland County\nCommunity Ca
 lendar\nhttps://jewishrockland.org/calendar/community-night-music-dancing-
 unity-in-nhc-sukkah-2015\n\nNight of Music\, Dancing and Unity in the Nanu
 et Hebrew Center Sukkah.  Open to the entire Community.  Live music by the
  NHC Temple Dudes\, along with the Traveling Chassidim.  6:45pm\, no charg
 e.
DTSTART;TZID=America/New_York:20151001T064500
DTEND;TZID=America/New_York:20151001T210000
END:VEVENT
END:VCALENDAR
