BEGIN:VCALENDAR
PRODID:-//eluceo/ical//2.0/EN
VERSION:2.0
CALSCALE:GREGORIAN
BEGIN:VEVENT
UID:79ef2cbb7db5058b39d19b653b4b11fd
DTSTAMP:20260424T134647Z
SUMMARY:COMMUNITY OPEN HOUSE AT BETH AM TEMPLE
DESCRIPTION:Jewish Federation & Foundation of Rockland County\nCommunity Ca
 lendar\nhttps://jewishrockland.org/calendar/community-open-house-at-beth-a
 m-temple\n\nBeth Am Temple in Pearl River is hosting a Community Open Hous
 e\, "Everything You Wanted to Know About Judaism\, But Didn't Have the Opp
 ortunity to Ask." The March 4th forum is open to the public and begins at 
 4:30 pm. 
DTSTART;TZID=America/New_York:20180304T163000
DTEND;TZID=America/New_York:20180304T180000
END:VEVENT
END:VCALENDAR
