BEGIN:VCALENDAR
PRODID:-//eluceo/ical//2.0/EN
VERSION:2.0
CALSCALE:GREGORIAN
BEGIN:VEVENT
UID:dc2f7c9542b9645d700b47db65fd23b2
DTSTAMP:20260425T005821Z
SUMMARY:Community (Public) Yizkor
DESCRIPTION:Jewish Federation & Foundation of Rockland County\nCommunity Ca
 lendar\nhttps://jewishrockland.org/calendar/community-public-yizkor-NHC201
 7\n\nCommunity (Public) Yizkor Service at Nanuet Hebrew Center.  2:30pm.\n
 \nThis is always a very meaningful service that is open to all.  No charge
DTSTART;TZID=America/New_York:20170930T143000
DTEND;TZID=America/New_York:20170930T153000
END:VEVENT
END:VCALENDAR
