BEGIN:VCALENDAR
PRODID:-//eluceo/ical//2.0/EN
VERSION:2.0
CALSCALE:GREGORIAN
BEGIN:VEVENT
UID:2467ecee042caf52fff9e97625564426
DTSTAMP:20260424T033037Z
SUMMARY:Community Rosh Hashanah Service for Young Families
DESCRIPTION:Jewish Federation & Foundation of Rockland County\nCommunity Ca
 lendar\nhttps://jewishrockland.org/calendar/community-rosh-hashanah-servic
 e-for-young-families-1502206127\n\nJoin us for a special special service m
 ade to meet the needs of elementary school age kids and their parents/guar
 dians. This is not a passive\, sit and watch the Rabbi pray service! Kids 
 will be invited to participate and parents will have important roles to pl
 ay. Parents/guardians are encouraged to attend and participate together w
 ith their children. There will be something for all ages allowing families
  to be together in prayer and learning. Open to the community at no charge
  but an RSVP is...
DTSTART;TZID=America/New_York:20170922T103000
DTEND;TZID=America/New_York:20170922T120000
END:VEVENT
END:VCALENDAR
