BEGIN:VCALENDAR
PRODID:-//eluceo/ical//2.0/EN
VERSION:2.0
CALSCALE:GREGORIAN
BEGIN:VEVENT
UID:174cdd146b460010048a43b23acaf90e
DTSTAMP:20260424T060856Z
SUMMARY:Community Seder at Congregation Shaarey Israel
DESCRIPTION:Jewish Federation & Foundation of Rockland County\nCommunity Ca
 lendar\nhttps://jewishrockland.org/calendar/community-seder-congregation-s
 haarey-israel-1427211993-139514\n\nLooking for a family seder? Join Cantor
  Menachem Bazian and his family at the Congregation Shaarey Israel communi
 ty seder for an evening of singing\, discussion\, wine and\, of course\, g
 reat food. Celebrate Passover as you have never celebrated it before.\n\nJ
 ust call our office at 845-369-0300 and ask for Peggy to sign up. Places a
 re limited and they will go so do not delay.
DTSTART;TZID=America/New_York:20150404T200000
DTEND;TZID=America/New_York:20150405T000000
END:VEVENT
END:VCALENDAR
