BEGIN:VCALENDAR
PRODID:-//eluceo/ical//2.0/EN
VERSION:2.0
CALSCALE:GREGORIAN
BEGIN:VEVENT
UID:99bea6e255a6929331a72986167b8fa4
DTSTAMP:20260425T215359Z
SUMMARY:Community Shabbat dinner at NCJC
DESCRIPTION:Jewish Federation & Foundation of Rockland County\nCommunity Ca
 lendar\nhttps://jewishrockland.org/calendar/community-shabbat-dinner-at-nc
 jc-1761841140\n\nJoin our NCJC community for Kabbalat Shabbat and deliciou
 s dinner!
DTSTART;TZID=America/New_York:20251107T180000
DTEND;TZID=America/New_York:20251107T200000
END:VEVENT
END:VCALENDAR
