BEGIN:VCALENDAR
PRODID:-//eluceo/ical//2.0/EN
VERSION:2.0
CALSCALE:GREGORIAN
BEGIN:VEVENT
UID:5871a56f463eb37bc44d685baac447e8
DTSTAMP:20260423T092207Z
SUMMARY:Community Sukkot Service and BBQ at Temple Beth Sholom
DESCRIPTION:Jewish Federation & Foundation of Rockland County\nCommunity Ca
 lendar\nhttps://jewishrockland.org/calendar/community-sukkot-service-and-b
 bq-at-temple-beth-sholom-1434037524-149085\n\nTemple Beth Sholom will host
  a community Sukkot Service and Barbeque on Sunday September 27th beginnin
 g at 11:30am. All are welcome. There will also be a small Farmer's Market 
 to purchase fresh produce.
DTSTART;TZID=America/New_York:20150927T113000
DTEND;TZID=America/New_York:20150927T131500
END:VEVENT
END:VCALENDAR
