BEGIN:VCALENDAR
PRODID:-//eluceo/ical//2.0/EN
VERSION:2.0
CALSCALE:GREGORIAN
BEGIN:VEVENT
UID:67e8d1ffda603c55f2cffd976d703426
DTSTAMP:20260420T165203Z
SUMMARY:Community Weaving Seminar
DESCRIPTION:Jewish Federation & Foundation of Rockland County\nCommunity Ca
 lendar\nhttps://jewishrockland.org/calendar/community-weaving-seminar-1482
 855026\n\nWorkshop for leadership from Rockland's Jewish agencies and syna
 gogues
DTSTART;TZID=America/New_York:20170126T180000
DTEND;TZID=America/New_York:20170126T200000
END:VEVENT
END:VCALENDAR
