BEGIN:VCALENDAR
PRODID:-//eluceo/ical//2.0/EN
VERSION:2.0
CALSCALE:GREGORIAN
BEGIN:VEVENT
UID:54e08139ce1f9f2c2342925f03298e08
DTSTAMP:20260420T220501Z
SUMMARY:Community-wide Kristallnacht commemoration 
DESCRIPTION:Jewish Federation & Foundation of Rockland County\nCommunity Ca
 lendar\nhttps://jewishrockland.org/calendar/community-wide-kristallnacht-c
 ommemoration-1427114004-139316\n\nCommunity wide commemoration of Kristall
 nacht
DTSTART;TZID=America/New_York:20151109T190000
DTEND;TZID=America/New_York:20151109T210000
END:VEVENT
END:VCALENDAR
