BEGIN:VCALENDAR
PRODID:-//eluceo/ical//2.0/EN
VERSION:2.0
CALSCALE:GREGORIAN
BEGIN:VEVENT
UID:37c926498d69983a0b80232041eff0dd
DTSTAMP:20260422T123657Z
SUMMARY:Community-wide Yom HaShoah commemoration
DESCRIPTION:Jewish Federation & Foundation of Rockland County\nCommunity Ca
 lendar\nhttps://jewishrockland.org/calendar/community-wide-yom-hashoah-com
 memoration-1619530224\n\nYom HaShoah Commemoration
DTSTART;TZID=America/New_York:20220424T170000
DTEND;TZID=America/New_York:20220424T180000
END:VEVENT
END:VCALENDAR
