BEGIN:VCALENDAR
PRODID:-//eluceo/ical//2.0/EN
VERSION:2.0
CALSCALE:GREGORIAN
BEGIN:VEVENT
UID:ba29f1ecaa98904a57c4ec84ac2d64b7
DTSTAMP:20260423T112437Z
SUMMARY:Community Yom Hazikaron commemoration
DESCRIPTION:Jewish Federation & Foundation of Rockland County\nCommunity Ca
 lendar\nhttps://jewishrockland.org/calendar/community-yom-hazikaron-commem
 oration-1551284385\n\nWe gather as a community to remember those who fell 
 in Israel's defense or in acts of terrorism
DTSTART;TZID=America/New_York:20190507T190000
DTEND;TZID=America/New_York:20190507T200000
END:VEVENT
END:VCALENDAR
