BEGIN:VCALENDAR
PRODID:-//eluceo/ical//2.0/EN
VERSION:2.0
CALSCALE:GREGORIAN
BEGIN:VEVENT
UID:be320a7807e9156c43467c37bb4b4b5d
DTSTAMP:20260425T155242Z
SUMMARY:Community Yom Kippur Service for Young Families
DESCRIPTION:Jewish Federation & Foundation of Rockland County\nCommunity Ca
 lendar\nhttps://jewishrockland.org/calendar/community-yom-kippur-service-f
 or-young-families-ncjc2017\n\nJoin us for a special special service made t
 o meet the needs of elementary school age kids and their parents/guardians
 . This is not a passive\, sit and watch the Rabbi pray service! Kids will 
 be invited to participate and parents will have important roles to play. P
 arents/guardians are encouraged to attend and participate together with t
 heir children. There will be something for all ages allowing families to b
 e together in prayer and learning. Open to the community at no charge but 
 an RSVP is...
DTSTART;TZID=America/New_York:20170930T103000
DTEND;TZID=America/New_York:20170930T120000
END:VEVENT
END:VCALENDAR
