BEGIN:VCALENDAR
PRODID:-//eluceo/ical//2.0/EN
VERSION:2.0
CALSCALE:GREGORIAN
BEGIN:VEVENT
UID:ddc8bc6658b386a9b29ba9fa70d47593
DTSTAMP:20260423T112415Z
SUMMARY:Congregation Shir Shalom Community Barbeque
DESCRIPTION:Jewish Federation & Foundation of Rockland County\nCommunity Ca
 lendar\nhttps://jewishrockland.org/calendar/congregation-shir-shalom-commu
 nity-barbeque-1718053334\n\nCommunity Barbeque Party - Music - Tot Shabbat
  - Shabbat Under The Stars. RSVP A MUST! Meet our Clergy and Members of ou
 r Board of Trustees.\n\nFree for congregants and $10 per person if unaffil
 iated.\n\nContact the office at 845-708-9181 or office@shirshalomrockland.
 org
DTSTART;TZID=America/New_York:20240906T170000
DTEND;TZID=America/New_York:20240906T190000
END:VEVENT
END:VCALENDAR
