BEGIN:VCALENDAR
PRODID:-//eluceo/ical//2.0/EN
VERSION:2.0
CALSCALE:GREGORIAN
BEGIN:VEVENT
UID:d51538c697f6a37f5923bd19457160e6
DTSTAMP:20260425T172855Z
SUMMARY:Congregation Sons of Israel Pride Shabbat Weekend
DESCRIPTION:Jewish Federation & Foundation of Rockland County\nCommunity Ca
 lendar\nhttps://jewishrockland.org/calendar/congregation-sons-of-israel-pr
 ide-shabbat-weekend-1621560799\n\nA joyous\, fun\, service on Friday night
  and a picnic style gathering on Saturday.\n
DTSTART;TZID=America/New_York:20210611T180000
DTEND;TZID=America/New_York:20210612T160000
END:VEVENT
END:VCALENDAR
