BEGIN:VCALENDAR
PRODID:-//eluceo/ical//2.0/EN
VERSION:2.0
CALSCALE:GREGORIAN
BEGIN:VEVENT
UID:3c58ff4306c630b2cfefc03012d26306
DTSTAMP:20260421T200406Z
SUMMARY:Conversations with Clergy - Rabbi Ami Hersh - Part 4
DESCRIPTION:Jewish Federation & Foundation of Rockland County\nCommunity Ca
 lendar\nhttps://jewishrockland.org/calendar/conversations-with-clergy-rabb
 i-hersh-4-63290\n\nNot Your Bubbe's Israel - We will discuss JTown "Person
 alities" of Jerusalem.
DTSTART;TZID=America/New_York:20140522T193000
DTEND;TZID=America/New_York:20140522T210000
END:VEVENT
END:VCALENDAR
