BEGIN:VCALENDAR
PRODID:-//eluceo/ical//2.0/EN
VERSION:2.0
CALSCALE:GREGORIAN
BEGIN:VEVENT
UID:37f91d7f006f2069d45d55360e39766e
DTSTAMP:20260422T144016Z
SUMMARY:CREATION: A modern musical comedy
DESCRIPTION:Jewish Federation & Foundation of Rockland County\nCommunity Ca
 lendar\nhttps://jewishrockland.org/calendar/creation-modern-musical-comedy
 -184967\n\nTemple Beth Sholom of New City is proud to present 'CREATION' A
  modern musical comedy performed by Israeli students through the Internati
 onal Exchange Program. Featuring the music of Irving Berlin\, Britney Spea
 rs\, Roy Orbison\, AC/DC\, Lady Gaga and more. Join us on April 16th at 8:
 00pm. Tickets for Adults are $18.00. Free admission for those under 18 yea
 rs old. Everyone must have a ticket to attend. Call Bethanne for tickets a
 nd information. 845-638-0770.
DTSTART;TZID=America/New_York:20160416T200000
DTEND;TZID=America/New_York:20160416T220000
END:VEVENT
END:VCALENDAR
