BEGIN:VCALENDAR
PRODID:-//eluceo/ical//2.0/EN
VERSION:2.0
CALSCALE:GREGORIAN
BEGIN:VEVENT
UID:6dacfcfbbda3b210a4f40782f6f0eae4
DTSTAMP:20260422T232452Z
SUMMARY:Crescendo
DESCRIPTION:Jewish Federation & Foundation of Rockland County\nCommunity Ca
 lendar\nhttps://jewishrockland.org/calendar/crescendo-1590157782\n\nWhen w
 orld-famous conductor Eduard Sporck (Peter Simonischek\, Toni Erdmann) acc
 epts the job to create an Israeli-Palestinian youth orchestra\, he is quic
 kly drawn into a tempest of sheer unsolvable problems. 
DTSTART;TZID=America/New_York:20200629T193000
DTEND;TZID=America/New_York:20200701T193000
END:VEVENT
END:VCALENDAR
